{"text_format":"1","workbook":"xlsx","n_sheets":7,"sheets":["Top Ranked","Family","G 4-6","G 7-8","G 9-12","Complete","raw data"],"not_rendered":{"charts":0,"images":1,"macros":1,"external_links":0,"defined_names":8,"comments":0,"pivot_tables":0},"unopened":[],"bounds":{"document_bytes":16777216,"sheet_cells":100000,"rows_first":2000,"rows_last":500,"rows_between":2000,"halvings":0,"cell_chars":16384,"cell_head_chars":4096},"cells_cut":0,"cells_raw":0,"read":"whole","date_system":"1900"}

{"sheet":"Top Ranked","index":0,"n_rows":19,"n_cols":6,"rows_kept":19,"cut":false,"hidden":false,"merged":[]}
["Category","TEAM NAME","SUPPORTED WEIGHT [lbs]","BRIDGE WEIGHT [lbs]","EFFICIENCY","RANKING"]
["10Family",{"$f":"Family!B2","v":"The Joys of Engineering"},{"$f":"Family!C2","v":202},{"$f":"Family!D2","v":0.29499999999999998},{"$f":"Family!E2","v":684.74576271186447},{"$f":"Family!F2&\"st\"","v":"1st"}]
["11Family",{"$f":"Family!B3","v":"Bridge Building Buckeyes"},{"$f":"Family!C3","v":150},{"$f":"Family!D3","v":0.315},{"$f":"Family!E3","v":476.1904761904762},{"$f":"Family!F3&\"nd\"","v":"2nd"}]
["12Family",{"$f":"Family!B4","v":"Tacoma Bridge Crew"},{"$f":"Family!C4","v":208},{"$f":"Family!D4","v":0.66500000000000004},{"$f":"Family!E4","v":312.78195488721803},{"$f":"Family!F4&\"rd\"","v":"3rd"}]
["1G 4-6",{"$f":"'G 4-6'!B2","v":"Bridgehead 3"},{"$f":"'G 4-6'!C2","v":38},{"$f":"'G 4-6'!D2","v":0.4},{"$f":"'G 4-6'!E2","v":95},{"$f":"'G 4-6'!F2&\"st\"","v":"1st"}]
["2G 4-6",{"$f":"'G 4-6'!B3","v":"Knowledge Kickers"},{"$f":"'G 4-6'!C3","v":50},{"$f":"'G 4-6'!D3","v":0.58499999999999996},{"$f":"'G 4-6'!E3","v":85.470085470085479},{"$f":"'G 4-6'!F3&\"nd\"","v":"2nd"}]
["3G 4-6",{"$f":"'G 4-6'!B4","v":"Bridge Masters"},{"$f":"'G 4-6'!C4","v":24},{"$f":"'G 4-6'!D4","v":0.34499999999999997},{"$f":"'G 4-6'!E4","v":69.565217391304358},{"$f":"'G 4-6'!F4&\"rd\"","v":"3rd"}]
["4G 7-8",{"$f":"'G 7-8'!B2","v":"Team Brane"},{"$f":"'G 7-8'!C2","v":70},{"$f":"'G 7-8'!D2","v":0.185},{"$f":"'G 7-8'!E2","v":378.37837837837839},{"$f":"'G 7-8'!F2&\"st\"","v":"1st"}]
["5G 7-8",{"$f":"'G 7-8'!B3","v":"Comets #1"},{"$f":"'G 7-8'!C3","v":46},{"$f":"'G 7-8'!D3","v":0.31},{"$f":"'G 7-8'!E3","v":148.38709677419354},{"$f":"'G 7-8'!F3&\"nd\"","v":"2nd"}]
["6G 7-8",{"$f":"'G 7-8'!B4","v":"The Dudesons"},{"$f":"'G 7-8'!C4","v":22},{"$f":"'G 7-8'!D4","v":0.18},{"$f":"'G 7-8'!E4","v":122.22222222222223},{"$f":"'G 7-8'!F4&\"rd\"","v":"3rd"}]
["7G 9-12",{"$f":"'G 9-12'!B2","v":"You BETTer believe it"},{"$f":"'G 9-12'!C2","v":120},{"$f":"'G 9-12'!D2","v":0.19500000000000001},{"$f":"'G 9-12'!E2","v":615.38461538461536},{"$f":"'G 9-12'!F2&\"st\"","v":"1st"}]
["8G 9-12",{"$f":"'G 9-12'!B3","v":"Warriors Blew a 3-1 Lead"},{"$f":"'G 9-12'!C3","v":124},{"$f":"'G 9-12'!D3","v":0.3},{"$f":"'G 9-12'!E3","v":413.33333333333337},{"$f":"'G 9-12'!F3&\"nd\"","v":"2nd"}]
["9G 9-12",{"$f":"'G 9-12'!B4","v":"HSM"},{"$f":"'G 9-12'!C4","v":130},{"$f":"'G 9-12'!D4","v":0.375},{"$f":"'G 9-12'!E4","v":346.66666666666669},{"$f":"'G 9-12'!F4&\"rd\"","v":"3rd"}]
[]
[]
[]
[null,null,"Elementary School - Blue Neck Ribbon"]
[null,null,"Middle School - Green Neck Ribbon"]
[null,null,"High School - Gold Neck Ribbon"]

{"sheet":"Family","index":1,"n_rows":21,"n_cols":6,"rows_kept":21,"cut":false,"hidden":false,"merged":[]}
["TEAM ","TEAM NAME","LOAD WEIGHT [lbs]","BRIDGE WEIGHT [lbs]","EFFICIENCY","RANK"]
[{"$f":"Complete!B79","v":"S3"},{"$f":"Complete!C79","v":"The Joys of Engineering"},{"$f":"Complete!D79","v":202},{"$f":"Complete!E79","v":0.29499999999999998},{"$f":"Complete!F79","v":684.74576271186447},{"$f":"RANK(E2,E$2:E$21)","v":1}]
[{"$f":"Complete!B80","v":"S4"},{"$f":"Complete!C80","v":"Bridge Building Buckeyes"},{"$f":"Complete!D80","v":150},{"$f":"Complete!E80","v":0.315},{"$f":"Complete!F80","v":476.1904761904762},2]
[{"$f":"Complete!B81","v":"S6"},{"$f":"Complete!C81","v":"Tacoma Bridge Crew"},{"$f":"Complete!D81","v":208},{"$f":"Complete!E81","v":0.66500000000000004},{"$f":"Complete!F81","v":312.78195488721803},3]
[{"$f":"Complete!B85","v":"S14"},{"$f":"Complete!C85","v":"Oak Street Boyz"},{"$f":"Complete!D85","v":94},{"$f":"Complete!E85","v":0.65500000000000003},{"$f":"Complete!F85","v":143.5114503816794},4]
[{"$f":"Complete!B84","v":"S11"},{"$f":"Complete!C84","v":"Bridge Trolls"},{"$f":"Complete!D84","v":50},{"$f":"Complete!E84","v":0.48},{"$f":"Complete!F84","v":104.16666666666667},5]
[{"$f":"Complete!B82","v":"S7"},{"$f":"Complete!C82","v":"Nathan Huddleston (Huddle time)"},{"$f":"Complete!D82","v":4},{"$f":"Complete!E82","v":0.16500000000000001},{"$f":"Complete!F82","v":24.242424242424242},6]
[{"$f":"Complete!B83","v":"S8"},{"$f":"Complete!C83","v":"Nathan Huddleston"},{"$f":"Complete!D83","v":1},{"$f":"Complete!E83","v":1},{"$f":"Complete!F83","v":1},7]
[{"$f":"Complete!B86","v":0},{"$f":"Complete!C86","v":0},{"$f":"Complete!D86","v":1},{"$f":"Complete!E86","v":1},{"$f":"Complete!F86","v":1},7]
[{"$f":"Complete!B87","v":0},{"$f":"Complete!C87","v":0},{"$f":"Complete!D87","v":1},{"$f":"Complete!E87","v":1},{"$f":"Complete!F87","v":1},7]
[{"$f":"Complete!B88","v":0},{"$f":"Complete!C88","v":0},{"$f":"Complete!D88","v":1},{"$f":"Complete!E88","v":1},{"$f":"Complete!F88","v":1},7]
[{"$f":"Complete!B89","v":0},{"$f":"Complete!C89","v":0},{"$f":"Complete!D89","v":1},{"$f":"Complete!E89","v":1},{"$f":"Complete!F89","v":1},7]
[{"$f":"Complete!B90","v":0},{"$f":"Complete!C90","v":0},{"$f":"Complete!D90","v":1},{"$f":"Complete!E90","v":1},{"$f":"Complete!F90","v":1},7]
[{"$f":"Complete!B91","v":0},{"$f":"Complete!C91","v":0},{"$f":"Complete!D91","v":1},{"$f":"Complete!E91","v":1},{"$f":"Complete!F91","v":1},7]
[{"$f":"Complete!B92","v":0},{"$f":"Complete!C92","v":0},{"$f":"Complete!D92","v":1},{"$f":"Complete!E92","v":1},{"$f":"Complete!F92","v":1},7]
[{"$f":"Complete!B93","v":0},{"$f":"Complete!C93","v":0},{"$f":"Complete!D93","v":1},{"$f":"Complete!E93","v":1},{"$f":"Complete!F93","v":1},7]
[{"$f":"Complete!B94","v":0},{"$f":"Complete!C94","v":0},{"$f":"Complete!D94","v":1},{"$f":"Complete!E94","v":1},{"$f":"Complete!F94","v":1},7]
[{"$f":"Complete!B95","v":0},{"$f":"Complete!C95","v":0},{"$f":"Complete!D95","v":1},{"$f":"Complete!E95","v":1},{"$f":"Complete!F95","v":1},7]
[{"$f":"Complete!B96","v":0},{"$f":"Complete!C96","v":0},{"$f":"Complete!D96","v":1},{"$f":"Complete!E96","v":1},{"$f":"Complete!F96","v":1},7]
[{"$f":"Complete!B97","v":0},{"$f":"Complete!C97","v":0},{"$f":"Complete!D97","v":1},{"$f":"Complete!E97","v":1},{"$f":"Complete!F97","v":1},7]
[{"$f":"Complete!B98","v":0},{"$f":"Complete!C98","v":0},{"$f":"Complete!D98","v":1},{"$f":"Complete!E98","v":1},{"$f":"Complete!F98","v":1},7]

{"sheet":"G 4-6","index":2,"n_rows":21,"n_cols":6,"rows_kept":21,"cut":false,"hidden":false,"merged":[]}
["TEAM ","TEAM NAME","LOAD WEIGHT [lbs]","BRIDGE WEIGHT [lbs]","EFFICIENCY","RANK"]
[{"$f":"Complete!B6","v":"S2"},{"$f":"Complete!C6","v":"Bridgehead 3"},{"$f":"Complete!D6","v":38},{"$f":"Complete!E6","v":0.4},{"$f":"Complete!F6","v":95},{"$f":"RANK(E2,E$2:E$21)","v":1}]
[{"$f":"Complete!B5","v":"S1"},{"$f":"Complete!C5","v":"Knowledge Kickers"},{"$f":"Complete!D5","v":50},{"$f":"Complete!E5","v":0.58499999999999996},{"$f":"Complete!F5","v":85.470085470085479},2]
[{"$f":"Complete!B8","v":"S13"},{"$f":"Complete!C8","v":"Bridge Masters"},{"$f":"Complete!D8","v":24},{"$f":"Complete!E8","v":0.34499999999999997},{"$f":"Complete!F8","v":69.565217391304358},3]
[{"$f":"Complete!B3","v":"F1"},{"$f":"Complete!C3","v":"Slippery Penguins"},{"$f":"Complete!D3","v":1},{"$f":"Complete!E3","v":1},{"$f":"Complete!F3","v":1},4]
[{"$f":"Complete!B4","v":"F2"},{"$f":"Complete!C4","v":"purple penguins"},{"$f":"Complete!D4","v":1},{"$f":"Complete!E4","v":1},{"$f":"Complete!F4","v":1},4]
[{"$f":"Complete!B7","v":"S9"},{"$f":"Complete!C7","v":"test"},{"$f":"Complete!D7","v":1},{"$f":"Complete!E7","v":1},{"$f":"Complete!F7","v":1},4]
[{"$f":"Complete!B9","v":0},{"$f":"Complete!C9","v":0},{"$f":"Complete!D9","v":1},{"$f":"Complete!E9","v":1},{"$f":"Complete!F9","v":1},4]
[{"$f":"Complete!B10","v":0},{"$f":"Complete!C10","v":0},{"$f":"Complete!D10","v":1},{"$f":"Complete!E10","v":1},{"$f":"Complete!F10","v":1},4]
[{"$f":"Complete!B11","v":0},{"$f":"Complete!C11","v":0},{"$f":"Complete!D11","v":1},{"$f":"Complete!E11","v":1},{"$f":"Complete!F11","v":1},4]
[{"$f":"Complete!B12","v":0},{"$f":"Complete!C12","v":0},{"$f":"Complete!D12","v":1},{"$f":"Complete!E12","v":1},{"$f":"Complete!F12","v":1},4]
[{"$f":"Complete!B13","v":0},{"$f":"Complete!C13","v":0},{"$f":"Complete!D13","v":1},{"$f":"Complete!E13","v":1},{"$f":"Complete!F13","v":1},4]
[{"$f":"Complete!B14","v":0},{"$f":"Complete!C14","v":0},{"$f":"Complete!D14","v":1},{"$f":"Complete!E14","v":1},{"$f":"Complete!F14","v":1},4]
[{"$f":"Complete!B15","v":0},{"$f":"Complete!C15","v":0},{"$f":"Complete!D15","v":1},{"$f":"Complete!E15","v":1},{"$f":"Complete!F15","v":1},4]
[{"$f":"Complete!B16","v":0},{"$f":"Complete!C16","v":0},{"$f":"Complete!D16","v":1},{"$f":"Complete!E16","v":1},{"$f":"Complete!F16","v":1},4]
[{"$f":"Complete!B17","v":0},{"$f":"Complete!C17","v":0},{"$f":"Complete!D17","v":1},{"$f":"Complete!E17","v":1},{"$f":"Complete!F17","v":1},4]
[{"$f":"Complete!B18","v":0},{"$f":"Complete!C18","v":0},{"$f":"Complete!D18","v":1},{"$f":"Complete!E18","v":1},{"$f":"Complete!F18","v":1},4]
[{"$f":"Complete!B19","v":0},{"$f":"Complete!C19","v":0},{"$f":"Complete!D19","v":1},{"$f":"Complete!E19","v":1},{"$f":"Complete!F19","v":1},4]
[{"$f":"Complete!B20","v":0},{"$f":"Complete!C20","v":0},{"$f":"Complete!D20","v":1},{"$f":"Complete!E20","v":1},{"$f":"Complete!F20","v":1},4]
[{"$f":"Complete!B21","v":0},{"$f":"Complete!C21","v":0},{"$f":"Complete!D21","v":1},{"$f":"Complete!E21","v":1},{"$f":"Complete!F21","v":1},4]
[{"$f":"Complete!B22","v":0},{"$f":"Complete!C22","v":0},{"$f":"Complete!D22","v":1},{"$f":"Complete!E22","v":1},{"$f":"Complete!F22","v":1},4]

{"sheet":"G 7-8","index":3,"n_rows":21,"n_cols":6,"rows_kept":21,"cut":false,"hidden":false,"merged":[]}
["TEAM ","TEAM NAME","LOAD WEIGHT [lbs]","BRIDGE WEIGHT [lbs]","EFFICIENCY","RANK"]
[{"$f":"Complete!B34","v":"S5"},{"$f":"Complete!C34","v":"Team Brane"},{"$f":"Complete!D34","v":70},{"$f":"Complete!E34","v":0.185},{"$f":"Complete!F34","v":378.37837837837839},{"$f":"RANK(E2,E$2:E$21)","v":1}]
[{"$f":"Complete!B33","v":"F11"},{"$f":"Complete!C33","v":"Comets #1"},{"$f":"Complete!D33","v":46},{"$f":"Complete!E33","v":0.31},{"$f":"Complete!F33","v":148.38709677419354},2]
[{"$f":"Complete!B29","v":"F7"},{"$f":"Complete!C29","v":"The Dudesons"},{"$f":"Complete!D29","v":22},{"$f":"Complete!E29","v":0.18},{"$f":"Complete!F29","v":122.22222222222223},3]
[{"$f":"Complete!B26","v":"F4"},{"$f":"Complete!C26","v":"3 Hour Power"},{"$f":"Complete!D26","v":40},{"$f":"Complete!E26","v":0.39},{"$f":"Complete!F26","v":102.56410256410255},4]
[{"$f":"Complete!B36","v":"F19"},{"$f":"Complete!C36","v":"Edison Team #2"},{"$f":"Complete!D36","v":24},{"$f":"Complete!E36","v":0.23499999999999999},{"$f":"Complete!F36","v":102.1276595744681},5]
[{"$f":"Complete!B37","v":"F20"},{"$f":"Complete!C37","v":"Edison Team #3"},{"$f":"Complete!D37","v":25},{"$f":"Complete!E37","v":0.255},{"$f":"Complete!F37","v":98.039215686274503},6]
[{"$f":"Complete!B28","v":"F6"},{"$f":"Complete!C28","v":"Bob's Builders"},{"$f":"Complete!D28","v":22},{"$f":"Complete!E28","v":0.22500000000000001},{"$f":"Complete!F28","v":97.777777777777771},7]
[{"$f":"Complete!B30","v":"F8"},{"$f":"Complete!C30","v":"Cool Creative Trolls"},{"$f":"Complete!D30","v":26},{"$f":"Complete!E30","v":0.28499999999999998},{"$f":"Complete!F30","v":91.228070175438603},8]
[{"$f":"Complete!B35","v":"F18"},{"$f":"Complete!C35","v":"Edison Team #1"},{"$f":"Complete!D35","v":22},{"$f":"Complete!E35","v":0.245},{"$f":"Complete!F35","v":89.795918367346943},9]
[{"$f":"Complete!B41","v":"F32"},{"$f":"Complete!C41","v":"Comets #2"},{"$f":"Complete!D41","v":32},{"$f":"Complete!E41","v":0.38500000000000001},{"$f":"Complete!F41","v":83.116883116883116},10]
[{"$f":"Complete!B43","v":"F34"},{"$f":"Complete!C43","v":"Comets #4"},{"$f":"Complete!D43","v":34},{"$f":"Complete!E43","v":0.44},{"$f":"Complete!F43","v":77.272727272727266},11]
[{"$f":"Complete!B27","v":"F5"},{"$f":"Complete!C27","v":"The Triple Threat plus One"},{"$f":"Complete!D27","v":20},{"$f":"Complete!E27","v":0.26500000000000001},{"$f":"Complete!F27","v":75.471698113207538},12]
[{"$f":"Complete!B38","v":"F21"},{"$f":"Complete!C38","v":"Edison Team #4"},{"$f":"Complete!D38","v":24},{"$f":"Complete!E38","v":0.34},{"$f":"Complete!F38","v":70.588235294117638},13]
[{"$f":"Complete!B39","v":"F22"},{"$f":"Complete!C39","v":"Edison Team #5"},{"$f":"Complete!D39","v":26},{"$f":"Complete!E39","v":0.39},{"$f":"Complete!F39","v":66.666666666666671},14]
[{"$f":"Complete!B40","v":"S10"},{"$f":"Complete!C40","v":"Fluffy Unicorns"},{"$f":"Complete!D40","v":22},{"$f":"Complete!E40","v":0.35499999999999998},{"$f":"Complete!F40","v":61.971830985915496},15]
[{"$f":"Complete!B25","v":"F3"},{"$f":"Complete!C25","v":"K2C"},{"$f":"Complete!D25","v":26},{"$f":"Complete!E25","v":0.435},{"$f":"Complete!F25","v":59.770114942528735},16]
[{"$f":"Complete!B42","v":"F33"},{"$f":"Complete!C42","v":"Comets #3"},{"$f":"Complete!D42","v":24},{"$f":"Complete!E42","v":0.41},{"$f":"Complete!F42","v":58.536585365853661},17]
[{"$f":"Complete!B31","v":"F9"},{"$f":"Complete!C31","v":"The Goldfish"},{"$f":"Complete!D31","v":10},{"$f":"Complete!E31","v":0.28999999999999998},{"$f":"Complete!F31","v":34.482758620689658},18]
[{"$f":"Complete!B32","v":"F10"},{"$f":"Complete!C32","v":"Kemrebelles"},{"$f":"Complete!D32","v":16},{"$f":"Complete!E32","v":0.505},{"$f":"Complete!F32","v":31.683168316831683},19]
[{"$f":"Complete!B44","v":"F35"},{"$f":"Complete!C44","v":"Comets #5"},{"$f":"Complete!D44","v":16},{"$f":"Complete!E44","v":0.54500000000000004},{"$f":"Complete!F44","v":29.357798165137613},20]

{"sheet":"G 9-12","index":4,"n_rows":21,"n_cols":6,"rows_kept":21,"cut":false,"hidden":false,"merged":[]}
["TEAM ","TEAM NAME","LOAD WEIGHT [lbs]","BRIDGE WEIGHT [lbs]","EFFICIENCY","RANK"]
[{"$f":"Complete!B60","v":"F30"},{"$f":"Complete!C60","v":"You BETTer believe it"},{"$f":"Complete!D60","v":120},{"$f":"Complete!E60","v":0.19500000000000001},{"$f":"Complete!F60","v":615.38461538461536},{"$f":"RANK(E2,E$2:E$21)","v":1}]
[{"$f":"Complete!B50","v":"F15"},{"$f":"Complete!C50","v":"Warriors Blew a 3-1 Lead"},{"$f":"Complete!D50","v":124},{"$f":"Complete!E50","v":0.3},{"$f":"Complete!F50","v":413.33333333333337},2]
[{"$f":"Complete!B62","v":"F31"},{"$f":"Complete!C62","v":"HSM"},{"$f":"Complete!D62","v":130},{"$f":"Complete!E62","v":0.375},{"$f":"Complete!F62","v":346.66666666666669},3]
[{"$f":"Complete!B65","v":"S16"},{"$f":"Complete!C65","v":"SHS Extras"},{"$f":"Complete!D65","v":116},{"$f":"Complete!E65","v":0.37},{"$f":"Complete!F65","v":313.51351351351354},4]
[{"$f":"Complete!B47","v":"F12"},{"$f":"Complete!C47","v":"Arch Enemies"},{"$f":"Complete!D47","v":102},{"$f":"Complete!E47","v":0.35},{"$f":"Complete!F47","v":291.42857142857144},5]
[{"$f":"Complete!B49","v":"F14"},{"$f":"Complete!C49","v":"Built Bett Tough"},{"$f":"Complete!D49","v":66},{"$f":"Complete!E49","v":0.24},{"$f":"Complete!F49","v":275},6]
[{"$f":"Complete!B57","v":"F27"},{"$f":"Complete!C57","v":"PV Team 2(The Golden Arches)"},{"$f":"Complete!D57","v":80},{"$f":"Complete!E57","v":0.33500000000000002},{"$f":"Complete!F57","v":238.80597014925371},7]
[{"$f":"Complete!B48","v":"F13"},{"$f":"Complete!C48","v":"Finesse Kids"},{"$f":"Complete!D48","v":74},{"$f":"Complete!E48","v":0.39500000000000002},{"$f":"Complete!F48","v":187.34177215189874},8]
[{"$f":"Complete!B51","v":"F16"},{"$f":"Complete!C51","v":"Team Fortem"},{"$f":"Complete!D51","v":48},{"$f":"Complete!E51","v":0.30499999999999999},{"$f":"Complete!F51","v":157.37704918032787},9]
[{"$f":"Complete!B64","v":"S15"},{"$f":"Complete!C64","v":"Cactus Body Slam"},{"$f":"Complete!D64","v":42},{"$f":"Complete!E64","v":0.27500000000000002},{"$f":"Complete!F64","v":152.72727272727272},10]
[{"$f":"Complete!B59","v":"F29"},{"$f":"Complete!C59","v":"PV Team 4 (Friendgineering)"},{"$f":"Complete!D59","v":46},{"$f":"Complete!E59","v":0.315},{"$f":"Complete!F59","v":146.03174603174602},11]
[{"$f":"Complete!B56","v":"F26"},{"$f":"Complete!C56","v":"PV Team 1"},{"$f":"Complete!D56","v":50},{"$f":"Complete!E56","v":0.42},{"$f":"Complete!F56","v":119.04761904761905},12]
[{"$f":"Complete!B58","v":"F28"},{"$f":"Complete!C58","v":"PV team 3"},{"$f":"Complete!D58","v":40},{"$f":"Complete!E58","v":0.34499999999999997},{"$f":"Complete!F58","v":115.94202898550725},13]
[{"$f":"Complete!B54","v":"F24"},{"$f":"Complete!C54","v":"Viscous & Delicious"},{"$f":"Complete!D54","v":56},{"$f":"Complete!E54","v":0.55000000000000004},{"$f":"Complete!F54","v":101.81818181818181},14]
[{"$f":"Complete!B55","v":"F25"},{"$f":"Complete!C55","v":"The DDD (Durability, Design, Delicacy)"},{"$f":"Complete!D55","v":60},{"$f":"Complete!E55","v":0.70499999999999996},{"$f":"Complete!F55","v":85.106382978723403},15]
[{"$f":"Complete!B52","v":"F17"},{"$f":"Complete!C52","v":"Tres Razas"},{"$f":"Complete!D52","v":22},{"$f":"Complete!E52","v":0.30499999999999999},{"$f":"Complete!F52","v":72.131147540983605},16]
[{"$f":"Complete!B61","v":"S12"},{"$f":"Complete!C61","v":"Team Alleman"},{"$f":"Complete!D61","v":38},{"$f":"Complete!E61","v":0.61499999999999999},{"$f":"Complete!F61","v":61.788617886178862},17]
[{"$f":"Complete!B53","v":"F23"},{"$f":"Complete!C53","v":"Knotty Turtles"},{"$f":"Complete!D53","v":22},{"$f":"Complete!E53","v":0.45500000000000002},{"$f":"Complete!F53","v":48.35164835164835},19]
[{"$f":"Complete!B63","v":"S11"},{"$f":"Complete!C63","v":"Team Oyana"},{"$f":"Complete!D63","v":26},{"$f":"Complete!E63","v":0.51500000000000001},{"$f":"Complete!F63","v":50.485436893203882},18]
[{"$f":"Complete!B66","v":0},{"$f":"Complete!C66","v":0},{"$f":"Complete!D66","v":1},{"$f":"Complete!E66","v":1},{"$f":"Complete!F66","v":1},20]

{"sheet":"Complete","index":5,"n_rows":109,"n_cols":9,"rows_kept":109,"cut":false,"hidden":false,"merged":[]}
[null,"Elementary"]
["line #","TEAM ","TEAM NAME","LOAD WEIGHT [lbs]","BRIDGE WEIGHT [lbs]","EFFICIENCY","RANK","Weigh in order"]
[1,"F1","Slippery Penguins",1,1,{"$f":"D3/E3","v":1},{"$f":"RANK(F3,F$3:F$22)","v":4}]
[2,"F2","purple penguins",1,1,1,4]
[3,"S1","Knowledge Kickers",50,0.58499999999999996,85.470085470085479,2]
[4,"S2","Bridgehead 3",38,0.4,95,1]
[5,"S9","test",1,1,1,4]
[6,"S13","Bridge Masters",24,0.34499999999999997,69.565217391304358,3]
[7,null,null,1,1,1,4]
[8,null,null,1,1,1,4]
[9,null,null,1,1,1,4]
[10,null,null,1,1,1,4]
[11,null,null,1,1,1,4]
[12,null,null,1,1,1,4]
[13,null,null,1,1,1,4]
[14,null,null,1,1,1,4]
[15,null,null,1,1,1,4]
[16,null,null,1,1,1,4]
[17,null,null,1,1,1,4]
[18,null,null,1,1,1,4]
[19,null,null,1,1,1,4]
[20,null,null,1,1,1,4]
[null,"Middle School"]
[null,"TEAM ","TEAM NAME","LOAD WEIGHT [lbs]","BRIDGE WEIGHT [lbs]","EFFICIENCY","RANK"]
[1,"F3","K2C",26,0.435,{"$f":"D25/E25","v":59.770114942528735},{"$f":"RANK(F25,F$25:F$44)","v":16}]
[2,"F4","3 Hour Power",40,0.39,102.56410256410255,4]
[3,"F5","The Triple Threat plus One",20,0.26500000000000001,75.471698113207538,12]
[4,"F6","Bob's Builders",22,0.22500000000000001,97.777777777777771,7]
[5,"F7","The Dudesons",22,0.18,122.22222222222223,3]
[6,"F8","Cool Creative Trolls",26,0.28499999999999998,91.228070175438603,8]
[7,"F9","The Goldfish",10,0.28999999999999998,34.482758620689658,18]
[8,"F10","Kemrebelles",16,0.505,31.683168316831683,19]
[9,"F11","Comets #1",46,0.31,148.38709677419354,2]
[10,"S5","Team Brane",70,0.185,378.37837837837839,1]
[11,"F18","Edison Team #1",22,0.245,89.795918367346943,9]
[12,"F19","Edison Team #2",24,0.23499999999999999,102.1276595744681,5]
[13,"F20","Edison Team #3",25,0.255,98.039215686274503,6]
[14,"F21","Edison Team #4",24,0.34,70.588235294117638,13]
[15,"F22","Edison Team #5",26,0.39,66.666666666666671,14]
[16,"S10","Fluffy Unicorns",22,0.35499999999999998,61.971830985915496,15]
[17,"F32","Comets #2",32,0.38500000000000001,83.116883116883116,10]
[18,"F33","Comets #3",24,0.41,58.536585365853661,17]
[19,"F34","Comets #4",34,0.44,77.272727272727266,11]
[20,"F35","Comets #5",16,0.54500000000000004,29.357798165137613,20]
[null,"High School"]
[null,"TEAM ","TEAM NAME","LOAD WEIGHT [lbs]","BRIDGE WEIGHT [lbs]","EFFICIENCY","RANK"]
[1,"F12","Arch Enemies",102,0.35,{"$f":"D47/E47","v":291.42857142857144},{"$f":"RANK(F47,F$47:F$76)","v":5},null,"110 reloaded on trusses"]
[2,"F13","Finesse Kids",74,0.39500000000000002,187.34177215189874,8]
[3,"F14","Built Bett Tough",66,0.24,275,6]
[4,"F15","Warriors Blew a 3-1 Lead",124,0.3,413.33333333333337,2]
[5,"F16","Team Fortem",48,0.30499999999999999,157.37704918032787,9]
[6,"F17","Tres Razas",22,0.30499999999999999,72.131147540983605,16]
[7,"F23","Knotty Turtles",22,0.45500000000000002,48.35164835164835,19]
[8,"F24","Viscous & Delicious",56,0.55000000000000004,101.81818181818181,14]
[9,"F25","The DDD (Durability, Design, Delicacy)",60,0.70499999999999996,85.106382978723403,15]
[10,"F26","PV Team 1",50,0.42,119.04761904761905,12]
[11,"F27","PV Team 2(The Golden Arches)",80,0.33500000000000002,238.80597014925371,7]
[12,"F28","PV team 3",40,0.34499999999999997,115.94202898550725,13]
[13,"F29","PV Team 4 (Friendgineering)",46,0.315,146.03174603174602,11]
[14,"F30","You BETTer believe it",120,0.19500000000000001,615.38461538461536,1]
[15,"S12","Team Alleman",38,0.61499999999999999,61.788617886178862,17]
[16,"F31","HSM",130,0.375,346.66666666666669,3]
[17,"S11","Team Oyana",26,0.51500000000000001,50.485436893203882,18]
[18,"S15","Cactus Body Slam",42,0.27500000000000002,152.72727272727272,10]
[19,"S16","SHS Extras",116,0.37,313.51351351351354,4]
[20,null,null,1,1,1,20]
[21,null,null,1,1,1,20]
[22,null,null,1,1,1,20]
[23,null,null,1,1,1,20]
[24,null,null,1,1,1,20]
[25,null,null,1,1,1,20]
[26,null,null,1,1,1,20]
[27,null,null,1,1,1,20]
[28,null,null,1,1,1,20]
[29,null,null,1,1,1,20]
[30,null,null,1,1,1,20]
[null,"Family"]
[null,"TEAM ","TEAM NAME","LOAD WEIGHT [lbs]","BRIDGE WEIGHT [lbs]","EFFICIENCY","RANK"]
[1,"S3","The Joys of Engineering",202,0.29499999999999998,{"$f":"D79/E79","v":684.74576271186447},{"$f":"RANK(F79,F$79:F$98)","v":1}]
[2,"S4","Bridge Building Buckeyes",150,0.315,476.1904761904762,2]
[3,"S6","Tacoma Bridge Crew",208,0.66500000000000004,312.78195488721803,3]
[4,"S7","Nathan Huddleston (Huddle time)",4,0.16500000000000001,24.242424242424242,6]
[5,"S8","Nathan Huddleston",1,1,1,7]
[6,"S11","Bridge Trolls",50,0.48,104.16666666666667,5]
[7,"S14","Oak Street Boyz",94,0.65500000000000003,143.5114503816794,4]
[8,null,null,1,1,1,7]
[9,null,null,1,1,1,7]
[10,null,null,1,1,1,7]
[11,null,null,1,1,1,7]
[12,null,null,1,1,1,7]
[13,null,null,1,1,1,7]
[14,null,null,1,1,1,7]
[15,null,null,1,1,1,7]
[16,null,null,1,1,1,7]
[17,null,null,1,1,1,7]
[18,null,null,1,1,1,7]
[19,null,null,1,1,1,7]
[20,null,null,1,1,1,7]
[8]
[9]
[10]
[]
[]
[]
[]
[]
[]
[null,null,"qcesc jake and rily",158,0.42,{"$f":"D108/E108","v":376.1904761904762}]
[null,null,"qcesc 2",26,0.42,{"$f":"D109/E109","v":61.904761904761905}]

{"sheet":"raw data","index":6,"n_rows":44,"n_cols":36,"rows_kept":44,"cut":false,"hidden":false,"merged":[]}
["Timestamp","First Name","Last Name","Phone Number (with area code)","E-Mail Address:","City Where You Live","Team Category","Has Anyone on your Team Previously Participated in the QCESC Battle of the Bridge Contest?","Name of School or Organization Team Associated With, If Any","Team Name","Total Number of People on Team","Which day does your team want to participate?","Does your team need financial assistance with the $25 registration fee?","First Name (Team Member 1)","Last Name (Team Member 1)","Grade (Team Member 1)","First Name (Team Member 2)","Last Name (Team Member 2)","Grade (Team Member 2)","First Name (Team Member 3)","Last Name (Team Member 3)","Grade (Team Member 3)","First Name (Team Member 4)","Last Name (Team Member 4)","Grade (Team Member 4)","Comments or Questions","How Do You Plan to Pay for Registration and Optional Pizza If Ordered","Total # of Cheese Pizzas","Total # of Pepperoni Pizzas","Total # of Sausage Pizzas","Total # of 2 Liter Pepsi","Total # of 2 Liter Diet Pepsi","Total # of 2 Liter Mountain Dew","Total # of 2 Liter Sierra Mist","Total # of Liter Mug Root Beer","Total Cost of Pizza/Pop"]
["2016-12-21T17:12:10","Chris","Cournoyer","563-505-6703","chris@ccx.net","leclaire","Grades 4-6 (Elementry)","1 Year","PV - Cody","Slippery Penguins",4,"Friday, January 27, 2017 (12:00 - 4:45 PM)","Yes","Tanner","COurnoyer","2017-04-06","Chase","Cournoyer","2017-04-06","Sophie","Foad","2017-04-06","Ayah","AlSheikha","2017-04-06","Comments go here :)","Pay On-Line via PayPal or Credit Card (separate step from this registration)",null,1,null,null,null,null,1,null,10]
["2016-12-31T14:03:21","Chris testing form","cournoyer",5635056703,"chris@ccx.net","Le Claire","Grades 4-6 (Elementry)","2 Years","PV","purple penguins",4,"Friday, January 27, 2017 (12:00 - 4:45 PM)","No","test","test","2017-04-06",null,null,null,null,null,null,null,null,null,null,"Pay On-Line via PayPal or Credit Card (separate step from this registration)"]
["2017-01-03T20:39:07","Michelle","Barber","563-508-4791","michelle@barberfamily.com","Blue Grass","Grades 4-6 (Elementry)","0 Years","None","Knowledge Kickers",2,"Saturday, January 28, 2017 (8:00 AM - 2:00 PM)","No","Michael","Barber","2017-04-06","Nataly","Bahns","2017-04-06",null,null,null,null,null,null,null,"Pay On-Line via PayPal or Credit Card (separate step from this registration)"]
["2017-01-05T09:23:18","Elizabeth","Wold",5633575200,"ewold@maquoketaschools.org","Maquoketa","Grades 7-8 (Middle)","1 Year","Maquoketa Schools","K2C",3,"Friday, January 27, 2017 (12:00 - 4:45 PM)","No","Kyler","Beidler","2017-07-08","Caiden","Atienza","2017-07-08","Kaleb","Whaley","2017-07-08",null,null,null,null,"Pay On-Line via PayPal or Credit Card (separate step from this registration)"]
["2017-01-05T09:26:10","Elizabeth","Wold",5633575200,"ewold@maquoketaschools.org","Maquoketa","Grades 7-8 (Middle)","1 Year","Maquoketa Schools","3 Hour Power",3,"Friday, January 27, 2017 (12:00 - 4:45 PM)","No","Adrian","Albert","2017-07-08","Wyatt","Lindstrom","2017-07-08","Lee","Cain","2017-07-08",null,null,null,null,"Pay On-Line via PayPal or Credit Card (separate step from this registration)"]
["2017-01-05T09:28:44","Elizabeth","Wold",5633575200,"ewold@maquoketaschools.org","Maquoketa","Grades 7-8 (Middle)","0 Years","Maquoketa Schools","The Triple Threat plus One",3,"Friday, January 27, 2017 (12:00 - 4:45 PM)","No","Faith","Zabran","2017-07-08","Alyssa","Bailey","2017-07-08","Brielle","Hahn","2017-07-08","Klair","Simmons","2017-07-08",null,"Pay On-Line via PayPal or Credit Card (separate step from this registration)"]
["2017-01-05T09:30:34","Elizabeth","Wold",5633575200,"ewold@maquoketaschools.org","Maquoketa","Grades 7-8 (Middle)","1 Year","Maquoketa Schools","Bob's Builders",3,"Friday, January 27, 2017 (12:00 - 4:45 PM)","No","Hunter","Burkey","2017-07-08","Jonathan","Nikkel","2017-07-08","Cayden","Oestern","2017-07-08",null,null,null,null,"Pay On-Line via PayPal or Credit Card (separate step from this registration)"]
["2017-01-05T09:33:25","Elizabeth","Wold",5633575200,"ewold@maquoketaschools.org","Maquoketa","Grades 7-8 (Middle)","1 Year","Maquoketa Schools","The Dudesons",4,"Friday, January 27, 2017 (12:00 - 4:45 PM)","No","Dane","Elmegreen","2017-07-08","Noah","Nabb","2017-07-08","River","Waack","2017-07-08","Zander","Halverson","2017-07-08",null,"Pay On-Line via PayPal or Credit Card (separate step from this registration)"]
["2017-01-05T09:35:31","Elizabeth","Wold",15633575200,"ewold@maquoketaschools.org","Maquoketa","Grades 7-8 (Middle)","1 Year","Maquoketa Schools","Cool Creative Trolls",3,"Friday, January 27, 2017 (12:00 - 4:45 PM)","No","Caitlin","Yeager","2017-07-08","Tenley","Cavanagh","2017-07-08","Carley","Davis","2017-07-08",null,null,null,null,"Pay On-Line via PayPal or Credit Card (separate step from this registration)"]
["2017-01-05T09:37:23","Elizabeth","Wold",5633575200,"ewold@maquoketaschools.org","Maquoketa","Grades 7-8 (Middle)","1 Year","Maquoketa Schools","The Goldfish",4,"Friday, January 27, 2017 (12:00 - 4:45 PM)","No","Charlie","Nims","2017-07-08","Gracie","Blair","2017-07-08","Kaitlyn","Hanken","2017-07-08","Autumn","Mitts","2017-07-08",null,"Pay On-Line via PayPal or Credit Card (separate step from this registration)"]
["2017-01-05T09:39:24","Elizabeth","Wold",5633575200,"ewold@maquoketaschools.org","Maquoketa","Grades 7-8 (Middle)","1 Year","Maquoketa Schools","Kemrebelles",4,"Friday, January 27, 2017 (12:00 - 4:45 PM)","No","Keeley","Waack","2017-07-08","Theresa","Kunau","2017-07-08","Emma","Chapin","2017-07-08","Isabelle","Davis","2017-07-08",null,"Pay On-Line via PayPal or Credit Card (separate step from this registration)"]
["2017-01-07T11:19:20","Michael & Jeannie","Marshall","678-896-0922","Seabeck2388@aol.com","Bettendorf","Grades 4-6 (Elementry)","0 Years","None","Bridgehead 3",3,"Saturday, January 28, 2017 (8:00 AM - 2:00 PM)","No","Daniel","Marshall","2017-04-06","Bennett","Brown","2017-04-06","Marcus","Brown","2017-04-06",null,null,null,"Tools:\nRequest Graph paper, string, masking tape, floral wire, flat file, square file, caliper, extra 3rd tube glue.","Pay On-Line via PayPal or Credit Card (separate step from this registration)",null,1,null,null,null,null,1,null,1]
["2017-01-08T12:11:19","Jackie","Henderson","319-631-4899","jhenderson@wl.k12.ia.us","West Liberty","Grades 7-8 (Middle)","0 Years","West Liberty Middle School","Comets #1",4,"Friday, January 27, 2017 (12:00 - 4:45 PM)","No","Mylei","Henderson","2017-07-08","Raquel","Even","2017-07-08","Rachel","Aird","2017-07-08","Jahsiah","Galvan","2017-07-08",null,"Pay On-Line via PayPal or Credit Card (separate step from this registration)"]
["2017-01-09T10:49:18","Melissa","Joy",3092304962,"Mljoy@frontiernet.net","Illinois City","Family (any combination of kids and adults) - See Rule #13","6 Years",null,"The Joys of Engineering",4,"Saturday, January 28, 2017 (8:00 AM - 2:00 PM)","No","Dustin","Joy","None","Chloe","Joy","2017-09-12","Owen","Joy","2017-04-06","Melissa","Joy","None",null,"Mail in Check Ahead of the Event",1,1,null,null,1,1,null,null,20]
["2017-01-09T18:15:44","Ryan","Gneiting","563-271-1961","ryangne@hotmail.com","Bettendorf","Family (any combination of kids and adults) - See Rule #13","2 Years",null,"Bridge Building Buckeyes",4,"Saturday, January 28, 2017 (8:00 AM - 2:00 PM)","No","Ryan","Gneiting","None","Justin","Gneiting","2017-09-12","Kyle","Gneiting",null,"Karly","Gneiting",null,null,"Pay On-Line via PayPal or Credit Card (separate step from this registration)",null,null,1,null,null,null,1,null,10]
["2017-01-09T18:43:06","Melinda","Al Sheikha","563 650 6826","justmindy@me.com","Bettendorf","Grades 7-8 (Middle)","3 years",null,"Team Brane",4,"Saturday, January 28, 2017 (8:00 AM - 2:00 PM)","No","Sami","Alsheikha","2017-07-08","Mazen","Alsheikha","2017-07-08","Elizabeth","Alves","2017-07-08","Clayton","Shelton","2017-07-08",null,"Pay On-Line via PayPal or Credit Card (separate step from this registration)",2,null,null,1,null,null,null,null,20]
["2017-01-17T13:41:17","Dan","Drexler","563-650-4102","ddrexler@bettendorf.k12.ia.us","Bettendorf","Grades 9-12 (High School)","0 Years","Bettendorf High School","Arch Enemies",4,"Friday, January 27, 2017 (12:00 - 4:45 PM)","No","Andrew","Del Vecchio","2017-09-12","Gabriel","Stevens","2017-09-12","Scott","Reisen","2017-09-12","Kyle","Huesmann","2017-09-12",null,"Mail in Check Ahead of the Event"]
["2017-01-17T13:44:58","Dan","Drexler","563-650-4102","ddrexler@bettendorf.k12.ia.us","Bettendorf","Grades 9-12 (High School)","0 Years","Bettendorf High School","Finesse Kids",4,"Friday, January 27, 2017 (12:00 - 4:45 PM)","No","Keagan","Glaus","2017-09-12","Thomas","Crowley","2017-09-12","Max","Martinez","2017-09-12","Ben","Houk","2017-09-12",null,"Mail in Check Ahead of the Event"]
["2017-01-17T13:48:15","Dan","Drexler","563-650-4102","ddrexler@bettendorf.k12.ia.us","Bettendorf","Grades 9-12 (High School)","0 Years","Bettendorf High School","Built Bett Tough",3,"Friday, January 27, 2017 (12:00 - 4:45 PM)","No","Kassandra","Posey","2017-09-12","Gavin","McNeely","2017-09-12","Nathan","Whitmer","2017-09-12",null,null,null,null,"Mail in Check Ahead of the Event"]
["2017-01-17T13:52:00","Dan","Drexler","563-650-4102","ddrexler@bettendorf.k12.ia.us","Bettendorf","Grades 9-12 (High School)","0 Years","Bettendorf High School","Warriors Blew a 3-1 Lead",4,"Friday, January 27, 2017 (12:00 - 4:45 PM)","No","Brett","Spencer","2017-09-12","Alex","Vanausdein","2017-09-12","Andrew","Whiteman","2017-09-12","Ryan","Schade","2017-09-12",null,"Mail in Check Ahead of the Event"]
["2017-01-17T14:57:03","Jason","Franzenburg","563-349-3715","franzenburgj@davenportschools.org","Davenport","Grades 9-12 (High School)","0 Years","Davenport West High","Team Fortem",4,"Friday, January 27, 2017 (12:00 - 4:45 PM)","No","Emily","Monroe","2017-09-12","Michael","Chalupa","2017-09-12","Draven","Ramirez","2017-09-12","Chase","Thompson","2017-09-12",null,"Pay On-Line via PayPal or Credit Card (separate step from this registration)"]
["2017-01-17T15:00:05","Jason","Franzenburg","563-349-3715","franzenburgj@davenportschools.org","Davenport","Grades 9-12 (High School)","0 Years","Davenport West HIgh","Tres Razas",4,"Friday, January 27, 2017 (12:00 - 4:45 PM)","Yes","Micheal","Thai","2017-09-12","Glenn","Nosa","2017-09-12","Tyler","Williams","2017-09-12",null,null,null,null,"Pay On-Line via PayPal or Credit Card (separate step from this registration)"]
["2017-01-17T19:15:04","Kevin","Dirth",5632643593,"famdirth@aol.com","Muscatine","Family (any combination of kids and adults) - See Rule #13","4 Years","None","Tacoma Bridge Crew",4,"Saturday, January 28, 2017 (8:00 AM - 2:00 PM)","No","Kevin","Dirth","None","Denise","Dirth","None","Steven","Dirth","2017-09-12","Lauren","Dirth","2017-09-12",null,"Pay On-Line via PayPal or Credit Card (separate step from this registration)",null,null,2,null,null,1,1,null,20]
["2017-01-18T08:37:25","Nathan","Huddleston","309-945-6531","nhudd@yahoo.com","Geneseo","Family (any combination of kids and adults) - See Rule #13","2 Years","None","Nathan Huddleston",2,"Saturday, January 28, 2017 (8:00 AM - 2:00 PM)","No","Nathan","Huddleston","None","Caleb","Huddleston","2017-07-08",null,null,null,null,null,null,null,"Pay On-Line via PayPal or Credit Card (separate step from this registration)"]
["2017-01-18T08:39:45","Nathan","Huddleston","309-945-6531","nhudd@yahoo.com","Geneseo","Family (any combination of kids and adults) - See Rule #13","2 Years","None","Nathan Huddleston",2,"Saturday, January 28, 2017 (8:00 AM - 2:00 PM)","No","Nathan","Huddleston","None","Caleb","Huddleston","2017-07-08",null,null,null,null,null,null,null,"Pay On-Line via PayPal or Credit Card (separate step from this registration)"]
["2017-01-18T17:54:06","Susan","Witmer","309-793-5920","susan.witmer@rimsd41.org","Rock Island","Grades 7-8 (Middle)","0 Years","Edison Junior High School - 21st CCLC Grant Programs","Edison Team #1",2,"Friday, January 27, 2017 (12:00 - 4:45 PM)","No","Ben","Abell","2017-07-08","Logan","Lambrecht","2017-07-08",null,null,null,null,null,null,null,"Mail in Check Ahead of the Event"]
["2017-01-18T17:57:14","Jennifer","Pfaff","309-793-5920","susan.witmer@rimsd41.org","Rock Island","Grades 7-8 (Middle)","0 Years","Edison Junior High School - Rock Island, IL","Edison Team #2",2,"Friday, January 27, 2017 (12:00 - 4:45 PM)","No","Naoko","Saubdman","2017-07-08","Jordan","Auld","2017-07-08",null,null,null,null,null,null,null,"Mail in Check Ahead of the Event"]
["2017-01-18T18:00:13","Jennifer","Pfaff","309-793-5920","susan.witmer@rimsd41.org","Rock Island","Grades 7-8 (Middle)","0 Years","Edison Junior High School - Rock Island, IL","Edison Team #3",2,"Friday, January 27, 2017 (12:00 - 4:45 PM)","No","Yvette","Asishakiye","2017-07-08","Jennifer","Lopez","2017-07-08",null,null,null,null,null,null,"If paying through a school grant (Edison) - is there a way to be billed for the teams?","Mail in Check Ahead of the Event"]
["2017-01-18T18:02:47","Jennifer","Pfaff","309-793-5920","susan.witmer@rimsd41.org","Rock Island","Grades 7-8 (Middle)","0 Years","Edison Junior High School - Rock Island, IL","Edison Team #4",2,"Friday, January 27, 2017 (12:00 - 4:45 PM)","No","Keaton","Adams","2017-07-08","Ni Hae","Shee","2017-07-08",null,null,null,null,null,null,null,"Mail in Check Ahead of the Event"]
["2017-01-18T18:04:42","Jennifer","Pfaff","309-793-5920","susan.witmer@rimsd41.org","Rock Island","Grades 7-8 (Middle)","0 Years","Edison Junior High School - Rock Island, IL","Edison Team #5",2,"Friday, January 27, 2017 (12:00 - 4:45 PM)","No","Carenn","Hayes","2017-07-08","Ashlynn","Canfield","2017-07-08",null,null,null,null,null,null,null,"Mail in Check Ahead of the Event"]
["2017-01-20T21:12:02","Chris","Cournoyer",5635056703,"chris@ccx.net","Le Claire","Grades 4-6 (Elementry)","3 years","testing form","test",1,"Saturday, January 28, 2017 (8:00 AM - 2:00 PM)","No","test","ttt","2017-04-06",null,null,null,null,null,null,null,null,null,null,"Pay On-Line via PayPal or Credit Card (separate step from this registration)"]
["2017-01-22T19:35:28","Darla","Jones","309-737-7239","brasskatz@aol.com","Rock Island","Grades 7-8 (Middle)","1 Year","Rivermont Collegiate","Fluffy Unicorns",4,"Saturday, January 28, 2017 (8:00 AM - 2:00 PM)","No","Angela","Jones","2017-07-08","Keval","Wagher","2017-07-08","Suzy","Longstaff","2017-07-08","Aidan","Roach","2017-07-08",null,"Pay On-Line via PayPal or Credit Card (separate step from this registration)",1,null,null,1,null,null,null,null,1]
["2017-01-23T13:49:05","Jason","Franzenburg",5633493715,"franzenburgj@davenportschools.org","Davenport","Grades 9-12 (High School)","0 Years",null,"Knotty Turtles",4,"Friday, January 27, 2017 (12:00 - 4:45 PM)","No","Blake","Hughes","2017-09-12","Brighum","Teel","2017-09-12","Aldin","Isic","2017-09-12","Kaleb","Schlemmer","2017-09-12",null,"Pay On-Line via PayPal or Credit Card (separate step from this registration)"]
["2017-01-23T13:52:59","Jason","Franzenburg",5633493715,"franzenburgj@davenportschools.org","Davenport","Grades 9-12 (High School)","0 Years","Davenport West High","Viscous & Delicious",4,"Friday, January 27, 2017 (12:00 - 4:45 PM)","No","brendon","Costello","2017-09-12","Denisse","duarte","2017-09-12","Brett","Wisor","2017-09-12","Manuel","Salinas","2017-09-12",null,"Pay On-Line via PayPal or Credit Card (separate step from this registration)"]
["2017-01-23T13:59:13","Jason","Franzenburg",5633493715,"franzenburgj@davenportschools.org","Davenport","Grades 9-12 (High School)","0 Years","Davenport West","The DDD (Durability, Design, Delicacy)",4,"Friday, January 27, 2017 (12:00 - 4:45 PM)","No","Alexa","Christiansen","2017-09-12","Yajaira","Navarro","2017-09-12","Piper","Hein","2017-09-12","Zak","Keel","2017-09-12",null,"Pay On-Line via PayPal or Credit Card (separate step from this registration)"]
["2017-01-23T19:17:14","Rebecca","Williamsen","563-359-8344","hansker@msn.com","Davenport","Family (any combination of kids and adults) - See Rule #13","9 Years","None","Bridge Trolls",4,"Saturday, January 28, 2017 (8:00 AM - 2:00 PM)","No","Hannah","Williamsen","2017-07-08","Martha","Fey","2017-07-08","Gary","Arthur","None","Rebecca","Williamsen","None",null,"Pay On-Line via PayPal or Credit Card (separate step from this registration)",null,null,1,null,null,null,1,null,10]
["2017-01-24T13:08:40","Matt","Stutenberg","563-320-6995","stutenbergmatt@pleasval.k12,ia,us","Bettendorf","Grades 9-12 (High School)","2 Years","Pleasant Valley High School","PV Team 1",4,"Friday, January 27, 2017 (12:00 - 4:45 PM)","No","Ryan","Morrissey","2017-09-12","Scott","Henrichs","2017-09-12","Michael","Brees","2017-09-12","McClain","Acri","2017-09-12",null,"Mail in Check Ahead of the Event"]
["2017-01-24T13:10:26","Matt","Stutenberg","563-320-6995","Stutenbergmatt@pleasval.k12.ia.us","Bettendorf","Grades 9-12 (High School)","0 Years","PLeasant Valley","PV Team 2",4,"Friday, January 27, 2017 (12:00 - 4:45 PM)","No","Jenna","Aller","2017-09-12","Sarah","Hoskins","2017-09-12","Mitch","Strobbe","2017-09-12","Cooper","Frakes","2017-09-12",null,"Mail in Check Ahead of the Event"]
["2017-01-24T13:12:43","Matt","Stutenberg","563-320-6995","stutenbergmatt@pleasval.k12.ia.us","Bettendorf","Grades 9-12 (High School)","0 Years","Pleasant Valley","PV team 3",4,"Friday, January 27, 2017 (12:00 - 4:45 PM)","No","Nick","Schons","2017-09-12","Ephraim","Bittner","2017-09-12","Kiran","Marla","2017-09-12",null,null,null,null,"Mail in Check Ahead of the Event"]
["2017-01-24T13:16:43","Matt","Stutenberg","563-320-6995","stutenbergmatt@pleasval.k12.ia.us","Bettendorf","Grades 9-12 (High School)","0 Years","Pleasant Valley","PV Team 4",4,"Friday, January 27, 2017 (12:00 - 4:45 PM)","No","Samantha","Bladel","2017-09-12","Jasimn","Bladel","2017-09-12",null,null,null,null,null,null,null,"Mail in Check Ahead of the Event"]
["2017-01-25T20:28:37","James","Callahan",5636507374,"CallahanJamesR@sau.edu","Bettendorf","Grades 9-12 (High School)","1 Year","Bettendorf High School","You BETTer believe it",2,"Friday, January 27, 2017 (12:00 - 4:45 PM)","No","Jackson","Callahan","2017-09-12","Elyssa","Springer","2017-09-12",null,null,null,null,null,null,null,"Pay On-Line via PayPal or Credit Card (separate step from this registration)"]
["2017-01-26T15:09:30","Sister M. Benedicta","Bourke, FSGM",3097867793,"srmbenedicta@allemanhighschool.org","Rock Island","Grades 9-12 (High School)","1 Year","Alleman High School","Team Alleman",3,"Saturday, January 28, 2017 (8:00 AM - 2:00 PM)","No","Dylan","Fogel","2017-09-12","Aaron","Mickelson","2017-09-12","Noah","Blunt","2017-09-12",null,null,null,"I am sorry but I did not register early enough to get the check to you before this event but I will bring a check/money with me on Saturday. If this does not work, please e-mail me and I will ask our school for the credit card to pay. What does the check need to be made out to?","Mail in Check Ahead of the Event",null,1,null,1,null,null,null,null,10]
["2017-01-26T16:03:46","Vaishali","Wagher",5733087506,"hvnk4@yahoo.com","Coal Valley","Grades 9-12 (High School)","3 years","Rivermont collegiate","HSM",2,"Friday, January 27, 2017 (12:00 - 4:45 PM)","No","Nikhil","WAGHER","2017-09-12","Clay","Douglas","2017-09-12",null,null,null,null,null,null,null,"Pay On-Line via PayPal or Credit Card (separate step from this registration)",1,null,null,null,2,null,null,null,20]